BEGIN:VCALENDAR
VERSION:2.0
PRODID:-//Sonic Automotive\, Inc./Equisolve Calendar v1.0//EN
METHOD:PUBLISH
BEGIN:VEVENT
CREATED:20260306T222920Z
UID:942015a3821b4459718125e39c7e382e
DTSTAMP:20260421T150119Z
DTSTART:20260429T180000Z
DTEND:20260429T190000Z
SUMMARY:2026 Annual Meeting of Stockholders
DESCRIPTION:2026 Annual Meeting of Stockholders\nDate: Apr 29\, 2026 • 2:00 pm EDT
END:VEVENT
END:VCALENDAR
